BEGIN:VCALENDAR
VERSION:2.0
PRODID:-//Odetah Camping Resort - ECPv6.15.20//NONSGML v1.0//EN
CALSCALE:GREGORIAN
METHOD:PUBLISH
X-WR-CALNAME:Odetah Camping Resort
X-ORIGINAL-URL:https://odetah.com
X-WR-CALDESC:Events for Odetah Camping Resort
REFRESH-INTERVAL;VALUE=DURATION:PT1H
X-Robots-Tag:noindex
X-PUBLISHED-TTL:PT1H
BEGIN:VTIMEZONE
TZID:America/New_York
BEGIN:DAYLIGHT
TZOFFSETFROM:-0500
TZOFFSETTO:-0400
TZNAME:EDT
DTSTART:20240310T070000
END:DAYLIGHT
BEGIN:STANDARD
TZOFFSETFROM:-0400
TZOFFSETTO:-0500
TZNAME:EST
DTSTART:20241103T060000
END:STANDARD
BEGIN:DAYLIGHT
TZOFFSETFROM:-0500
TZOFFSETTO:-0400
TZNAME:EDT
DTSTART:20250309T070000
END:DAYLIGHT
BEGIN:STANDARD
TZOFFSETFROM:-0400
TZOFFSETTO:-0500
TZNAME:EST
DTSTART:20251102T060000
END:STANDARD
BEGIN:DAYLIGHT
TZOFFSETFROM:-0500
TZOFFSETTO:-0400
TZNAME:EDT
DTSTART:20260308T070000
END:DAYLIGHT
BEGIN:STANDARD
TZOFFSETFROM:-0400
TZOFFSETTO:-0500
TZNAME:EST
DTSTART:20261101T060000
END:STANDARD
END:VTIMEZONE
BEGIN:VEVENT
DTSTART;VALUE=DATE:20250509
DTEND;VALUE=DATE:20250510
DTSTAMP:20260420T121537
CREATED:20250210T163051Z
LAST-MODIFIED:20250210T163051Z
UID:2218-1746748800-1746835199@odetah.com
SUMMARY:Mothers Day Weekend
DESCRIPTION:Odetah Camping Resort is happy to celebrate all mothers with a weekend dedicated to making you feel special. Start your weekend with our new Firepit Fridays where you can hang out by the fire and make delicious s’mores with friends and family. After your sweet tooth is satisfied stay at the Social Hall for a fun night of Bingo! Enjoy delicious muffins with mom on Saturday morning and pictures by our beautiful lake. You’ll also be able to enjoy a variety of wonderful crafts and movies with the whole family. Moms\, make sure to enter to win one of our 2 amazing Mother’s Day raffle baskets in the office! Lifelong memories are surely to be made here at Odetah Camping Resort.
URL:https://odetah.com/event/mothers-day-weekend-4/
ATTACH;FMTTYPE=image/jpeg:https://odetah.com/wp-content/uploads/2025/02/Mothers-day-camping.jpg
END:VEVENT
END:VCALENDAR