BEGIN:VCALENDAR
VERSION:2.0
PRODID:-//Odetah Camping Resort - ECPv6.15.20//NONSGML v1.0//EN
CALSCALE:GREGORIAN
METHOD:PUBLISH
X-WR-CALNAME:Odetah Camping Resort
X-ORIGINAL-URL:https://odetah.com
X-WR-CALDESC:Events for Odetah Camping Resort
REFRESH-INTERVAL;VALUE=DURATION:PT1H
X-Robots-Tag:noindex
X-PUBLISHED-TTL:PT1H
BEGIN:VTIMEZONE
TZID:America/New_York
BEGIN:DAYLIGHT
TZOFFSETFROM:-0500
TZOFFSETTO:-0400
TZNAME:EDT
DTSTART:20230312T070000
END:DAYLIGHT
BEGIN:STANDARD
TZOFFSETFROM:-0400
TZOFFSETTO:-0500
TZNAME:EST
DTSTART:20231105T060000
END:STANDARD
BEGIN:DAYLIGHT
TZOFFSETFROM:-0500
TZOFFSETTO:-0400
TZNAME:EDT
DTSTART:20240310T070000
END:DAYLIGHT
BEGIN:STANDARD
TZOFFSETFROM:-0400
TZOFFSETTO:-0500
TZNAME:EST
DTSTART:20241103T060000
END:STANDARD
BEGIN:DAYLIGHT
TZOFFSETFROM:-0500
TZOFFSETTO:-0400
TZNAME:EDT
DTSTART:20250309T070000
END:DAYLIGHT
BEGIN:STANDARD
TZOFFSETFROM:-0400
TZOFFSETTO:-0500
TZNAME:EST
DTSTART:20251102T060000
END:STANDARD
END:VTIMEZONE
BEGIN:VEVENT
DTSTART;VALUE=DATE:20240920
DTEND;VALUE=DATE:20240923
DTSTAMP:20260423T095121
CREATED:20240130T182523Z
LAST-MODIFIED:20240130T182523Z
UID:2122-1726790400-1727049599@odetah.com
SUMMARY:Flashback to 50's Weekend
DESCRIPTION:Get ready to twist and shout as Odetah Camping Resort turns back the clock during the Flashback to the 50s Weekend! Campers will find themselves transported to the era of poodle skirts and leather jackets\, where the highlight of the weekend is a lively sock hop that promises to have everyone cutting a rug on the dance floor. The nostalgic atmosphere is further enhanced with crafts that capture the essence of the 50s\, allowing families to channel their inner artists and create timeless mementos. \nOutdoor games add a touch of retro fun\, bringing families together for classic activities that were all the rage in the golden era. As the stars twinkle above\, a Movie under the Stars featuring a film from the 1950s sets the stage for a cozy and cinematic night under the open sky. \nThe Oasis Cafe takes a trip down memory lane with food specials that harken back to the iconic flavors of the 50s. From burgers and fries to milkshakes and sundaes\, the menu is a delicious tribute to the culinary delights of the era. Indulgent treats await at Scoops and Odetah Bakery\, where families can savor the sweet flavors of yesteryear. \nTo complement the immersive experience\, specialty drinks at various locations around the campground offer a refreshing and thematic twist\, allowing campers to sip on retro-inspired beverages as they soak in the 50s ambiance. Flashback to the 50s Weekend at Odetah Camping Resort promises a weekend of nostalgia\, laughter\, and shared moments as families step back in time to celebrate the magic of the 1950s. It’s an unforgettable journey that bridges the generations\, creating memories that will be cherished for years to come. \nEverything Odetah
URL:https://odetah.com/event/flashback-to-50s-weekend/
ATTACH;FMTTYPE=image/jpeg:https://odetah.com/wp-content/uploads/2024/01/50s.jpg
END:VEVENT
END:VCALENDAR