BEGIN:VCALENDAR
VERSION:2.0
PRODID:-//Odetah Camping Resort - ECPv6.15.20//NONSGML v1.0//EN
CALSCALE:GREGORIAN
METHOD:PUBLISH
X-ORIGINAL-URL:https://odetah.com
X-WR-CALDESC:Events for Odetah Camping Resort
REFRESH-INTERVAL;VALUE=DURATION:PT1H
X-Robots-Tag:noindex
X-PUBLISHED-TTL:PT1H
BEGIN:VTIMEZONE
TZID:America/New_York
BEGIN:DAYLIGHT
TZOFFSETFROM:-0500
TZOFFSETTO:-0400
TZNAME:EDT
DTSTART:20230312T070000
END:DAYLIGHT
BEGIN:STANDARD
TZOFFSETFROM:-0400
TZOFFSETTO:-0500
TZNAME:EST
DTSTART:20231105T060000
END:STANDARD
BEGIN:DAYLIGHT
TZOFFSETFROM:-0500
TZOFFSETTO:-0400
TZNAME:EDT
DTSTART:20240310T070000
END:DAYLIGHT
BEGIN:STANDARD
TZOFFSETFROM:-0400
TZOFFSETTO:-0500
TZNAME:EST
DTSTART:20241103T060000
END:STANDARD
BEGIN:DAYLIGHT
TZOFFSETFROM:-0500
TZOFFSETTO:-0400
TZNAME:EDT
DTSTART:20250309T070000
END:DAYLIGHT
BEGIN:STANDARD
TZOFFSETFROM:-0400
TZOFFSETTO:-0500
TZNAME:EST
DTSTART:20251102T060000
END:STANDARD
END:VTIMEZONE
BEGIN:VEVENT
DTSTART;VALUE=DATE:20240913
DTEND;VALUE=DATE:20240916
DTSTAMP:20260423T062119
CREATED:20240130T182458Z
LAST-MODIFIED:20240822T174330Z
UID:2120-1726185600-1726444799@odetah.com
SUMMARY:I SPY Weekend
DESCRIPTION:Prepare for an enigmatic adventure during I SPY Weekend at Odetah Camping Resort\, where the air is filled with suspense and intrigue. Dive into the mystery with a touch of the unusual as campers engage in slime-making\, adding an element of intrigue to the weekend’s festivities. Creative minds can channel their inner detectives with engaging crafts that set the stage for a thrilling weekend of mystery and suspense. \nOutdoor games and a scavenger hunt further heighten the suspense\, challenging participants to solve clues and uncover hidden secrets scattered throughout the campground. As night falls\, the anticipation builds with a Movie under the Stars\, featuring a film that keeps campers on the edge of their seats. \nThe culinary offerings during I SPY Weekend add to the intrigue\, with The Oasis Cafe serving up food specials that are as mysterious as the unfolding plot. Campers can indulge their sweet tooth at Scoops and Odetah Bakery\, where tantalizing treats offer a delightful escape from the enigma that surrounds them. \nI SPY Weekend at Odetah Camping Resort is a captivating blend of entertainment\, creativity\, and culinary delights\, promising a weekend where campers become both the detectives and the characters in an unforgettable storyline. It’s an immersive experience that invites families to unravel the mystery together\, creating memories that linger long after the weekend concludes. \nEverything Odetah
URL:https://odetah.com/event/murder-mystery-weekend/
ATTACH;FMTTYPE=image/jpeg:https://odetah.com/wp-content/uploads/2024/01/I-SPY.jpg
END:VEVENT
END:VCALENDAR