BEGIN:VCALENDAR
VERSION:2.0
PRODID:-//Odetah Camping Resort - ECPv6.15.20//NONSGML v1.0//EN
CALSCALE:GREGORIAN
METHOD:PUBLISH
X-ORIGINAL-URL:https://odetah.com
X-WR-CALDESC:Events for Odetah Camping Resort
REFRESH-INTERVAL;VALUE=DURATION:PT1H
X-Robots-Tag:noindex
X-PUBLISHED-TTL:PT1H
BEGIN:VTIMEZONE
TZID:America/New_York
BEGIN:DAYLIGHT
TZOFFSETFROM:-0500
TZOFFSETTO:-0400
TZNAME:EDT
DTSTART:20230312T070000
END:DAYLIGHT
BEGIN:STANDARD
TZOFFSETFROM:-0400
TZOFFSETTO:-0500
TZNAME:EST
DTSTART:20231105T060000
END:STANDARD
BEGIN:DAYLIGHT
TZOFFSETFROM:-0500
TZOFFSETTO:-0400
TZNAME:EDT
DTSTART:20240310T070000
END:DAYLIGHT
BEGIN:STANDARD
TZOFFSETFROM:-0400
TZOFFSETTO:-0500
TZNAME:EST
DTSTART:20241103T060000
END:STANDARD
BEGIN:DAYLIGHT
TZOFFSETFROM:-0500
TZOFFSETTO:-0400
TZNAME:EDT
DTSTART:20250309T070000
END:DAYLIGHT
BEGIN:STANDARD
TZOFFSETFROM:-0400
TZOFFSETTO:-0500
TZNAME:EST
DTSTART:20251102T060000
END:STANDARD
END:VTIMEZONE
BEGIN:VEVENT
DTSTART;VALUE=DATE:20240906
DTEND;VALUE=DATE:20240909
DTSTAMP:20260423T061808
CREATED:20240130T182430Z
LAST-MODIFIED:20240130T182430Z
UID:2118-1725580800-1725839999@odetah.com
SUMMARY:Jurassic Weekend
DESCRIPTION:Step into a prehistoric world of wonder during Jurassic Weekend at Odetah Camping Resort. The enchantment begins with Rainforest Reptiles\, where campers can encounter captivating creatures and learn about the mesmerizing reptiles that once roamed the Earth. Budding paleontologists can unleash their inner archaeologist during the Dinosaur Dig\, excavating fossils and unearthing the secrets of an ancient era. \nCreativity takes center stage with a variety of crafts that allow campers to bring ideas to life through colorful and imaginative projects. Outdoor games add an extra layer of excitement\, inviting families to partake in friendly competitions and enjoy the fresh air amidst the lush surroundings. A scavenger hunt adds an element of adventure\, challenging participants to explore the campground while discovering hidden treasures and uncovering dinosaur-themed surprises. \nAs the sun sets\, families can gather for a captivating Movie under the Stars\, immersing themselves in tales of prehistoric adventures. The culinary delights of Jurassic Weekend are not to be missed\, with The Oasis Cafe offering delectable food specials inspired by the ancient world. Sweet treats abound at Scoops and Odetah Bakery\, where campers can indulge in delightful confections that transport them back in time. \nTo complement the festivities\, specialty drinks and desserts provide a refreshing and thematic way to cool off or warm up after a day of dinosaur-themed exploration at . Jurassic Weekend at Odetah Camping Resort is a journey through time\, where families can bond over the marvels of the past while creating treasured memories that will last a lifetime. It’s an immersive experience that combines education\, adventure\, and the joy of shared moments in the great outdoors. \nEverything Odetah
URL:https://odetah.com/event/jurassic-weekend/
ATTACH;FMTTYPE=image/webp:https://odetah.com/wp-content/uploads/2024/01/Jurassic-World-Camp-Creatceous-Review-1.webp
END:VEVENT
END:VCALENDAR